BEGIN:VCALENDAR
VERSION:2.0
PRODID:-//Site de la commune de Puycornet - ECPv4.1.2//NONSGML v1.0//EN
CALSCALE:GREGORIAN
METHOD:PUBLISH
X-WR-CALNAME:Site de la commune de Puycornet
X-ORIGINAL-URL:http://www.puycornet.com
X-WR-CALDESC:Events for Site de la commune de Puycornet
BEGIN:VEVENT
DTSTART;VALUE=DATE:20230814
DTEND;VALUE=DATE:20230815
DTSTAMP:20260425T011224
CREATED:20230401
LAST-MODIFIED:20230401
UID:6760-1691971200-1692143999@www.puycornet.com
SUMMARY:Fête communale
DESCRIPTION:Organisée par le comité des fêtes\n\nBal musette et bal disco / Feu d'artifice
URL:http://www.puycornet.com/event/fete-communale-2/
CATEGORIES:Evenements
END:VEVENT
END:VCALENDAR